BEGIN:VCALENDAR
VERSION:2.0
PRODID:-//Anchoring the Light - ECPv6.15.20//NONSGML v1.0//EN
CALSCALE:GREGORIAN
METHOD:PUBLISH
X-ORIGINAL-URL:https://anchoringthelight.org
X-WR-CALDESC:Events for Anchoring the Light
REFRESH-INTERVAL;VALUE=DURATION:PT1H
X-Robots-Tag:noindex
X-PUBLISHED-TTL:PT1H
BEGIN:VTIMEZONE
TZID:UTC
BEGIN:STANDARD
TZOFFSETFROM:+0000
TZOFFSETTO:+0000
TZNAME:UTC
DTSTART:20170101T000000
END:STANDARD
END:VTIMEZONE
BEGIN:VEVENT
DTSTART;VALUE=DATE:20180916
DTEND;VALUE=DATE:20181003
DTSTAMP:20260420T200903
CREATED:20180210T041850Z
LAST-MODIFIED:20180709T051308Z
UID:13881-1537056000-1538524799@anchoringthelight.org
SUMMARY:Egypt: Spiritual Tour
DESCRIPTION:Master Your Energy in Egypt! \nThis year’s itinerary is amazing – our classic initiation tour with new sites including the pyramid of Meidum\, overnight in Abydos\, Tel-Amarna for Akhenaten’s temple\, private time in key temples\, Lake Nasser & Nile cruises….and a few surprises along the way!  Check out some videos from our 2017 research trip on our facebook video playlist: http://bit.ly/atl-egypt.
URL:https://anchoringthelight.org/activity/egypt-2/
LOCATION:Lake Nasser to Cairo\, Egypt
CATEGORIES:Spiritual Tours
ATTACH;FMTTYPE=image/png:https://anchoringthelight.org/wp-content/uploads/2018/02/events-egypt.png
ORGANIZER;CN="Jaime Lynn":MAILTO:jaimelynn@anchoringthelight.org
END:VEVENT
END:VCALENDAR